BEGIN:VCALENDAR
VERSION:2.0
PRODID:-//Waterford New Communities Network - ECPv6.15.15//NONSGML v1.0//EN
CALSCALE:GREGORIAN
METHOD:PUBLISH
X-ORIGINAL-URL:https://waterfordncn.ie
X-WR-CALDESC:Events for Waterford New Communities Network
REFRESH-INTERVAL;VALUE=DURATION:PT1H
X-Robots-Tag:noindex
X-PUBLISHED-TTL:PT1H
BEGIN:VTIMEZONE
TZID:UTC
BEGIN:STANDARD
TZOFFSETFROM:+0000
TZOFFSETTO:+0000
TZNAME:UTC
DTSTART:20240101T000000
END:STANDARD
END:VTIMEZONE
BEGIN:VEVENT
DTSTART;TZID=UTC:20250603T170000
DTEND;TZID=UTC:20250603T190000
DTSTAMP:20260421T051708
CREATED:20250520T095004Z
LAST-MODIFIED:20250520T095129Z
UID:1616-1748970000-1748977200@waterfordncn.ie
SUMMARY:Together Tuesdays
DESCRIPTION:Join us for Together Tuesdays\, a friendly and informal drop-in session where everyone is welcome!\nCome along for a relaxed evening—bring some snacks if you like—to meet new people\, share information about local events\, and enjoy a safe space to ask questions\, make connections\, and build friendships. \nNo pressure\, no formalities — just a warm\, welcoming place to feel part of the Waterford community. \nNo matter where you’re from or how long you’ve been here — we welcome and respect everyone and celebrate the diversity that strengthens our community! \nDate: Tuesday 3rd June 2025\nTime: 5 PM – 7 PM\nVenue: WCQ Place – Community and Culture Hub 16–18 O’Connell Street\, Waterford City Centre
URL:https://waterfordncn.ie/event/together-tuesdays-03-06/
ATTACH;FMTTYPE=image/jpeg:https://waterfordncn.ie/wp-content/uploads/2025/05/WNCN_Together_tuesday.jpg
END:VEVENT
BEGIN:VEVENT
DTSTART;TZID=UTC:20250610T170000
DTEND;TZID=UTC:20250610T190000
DTSTAMP:20260421T051708
CREATED:20250520T095319Z
LAST-MODIFIED:20250520T095319Z
UID:1615-1749574800-1749582000@waterfordncn.ie
SUMMARY:Together Tuesdays
DESCRIPTION:Join us for Together Tuesdays\, a friendly and informal drop-in session where everyone is welcome!\nCome along for a relaxed evening—bring some snacks if you like—to meet new people\, share information about local events\, and enjoy a safe space to ask questions\, make connections\, and build friendships. \nNo pressure\, no formalities — just a warm\, welcoming place to feel part of the Waterford community. \nNo matter where you’re from or how long you’ve been here — we welcome and respect everyone and celebrate the diversity that strengthens our community! \nDate: Tuesday 10th June 2025\nTime: 5 PM – 7 PM\nVenue: WCQ Place – Community and Culture Hub 16–18 O’Connell Street\, Waterford City Centre
URL:https://waterfordncn.ie/event/together-tuesdays-10-06/
ATTACH;FMTTYPE=image/jpeg:https://waterfordncn.ie/wp-content/uploads/2025/05/WNCN_Together_tuesday.jpg
END:VEVENT
BEGIN:VEVENT
DTSTART;TZID=UTC:20250617T170000
DTEND;TZID=UTC:20250617T190000
DTSTAMP:20260421T051708
CREATED:20250520T101754Z
LAST-MODIFIED:20250520T101754Z
UID:1614-1750179600-1750186800@waterfordncn.ie
SUMMARY:Together Tuesdays
DESCRIPTION:Join us for Together Tuesdays\, a friendly and informal drop-in session where everyone is welcome!\nCome along for a relaxed evening—bring some snacks if you like—to meet new people\, share information about local events\, and enjoy a safe space to ask questions\, make connections\, and build friendships. \nNo pressure\, no formalities — just a warm\, welcoming place to feel part of the Waterford community. \nNo matter where you’re from or how long you’ve been here — we welcome and respect everyone and celebrate the diversity that strengthens our community! \nDate: Tuesday 27th May 2025\nTime: 5 PM – 7 PM\nVenue: WCQ Place – Community and Culture Hub 16–18 O’Connell Street\, Waterford City Centre
URL:https://waterfordncn.ie/event/together-tuesdays-17-06/
ATTACH;FMTTYPE=image/jpeg:https://waterfordncn.ie/wp-content/uploads/2025/05/WNCN_Together_tuesday.jpg
END:VEVENT
BEGIN:VEVENT
DTSTART;TZID=UTC:20250624T170000
DTEND;TZID=UTC:20250624T190000
DTSTAMP:20260421T051708
CREATED:20250520T101941Z
LAST-MODIFIED:20250520T101941Z
UID:1613-1750784400-1750791600@waterfordncn.ie
SUMMARY:Together Tuesdays
DESCRIPTION:Join us for Together Tuesdays\, a friendly and informal drop-in session where everyone is welcome!\nCome along for a relaxed evening—bring some snacks if you like—to meet new people\, share information about local events\, and enjoy a safe space to ask questions\, make connections\, and build friendships. \nNo pressure\, no formalities — just a warm\, welcoming place to feel part of the Waterford community. \nNo matter where you’re from or how long you’ve been here — we welcome and respect everyone and celebrate the diversity that strengthens our community! \nDate: Tuesday 27th May 2025\nTime: 5 PM – 7 PM\nVenue: WCQ Place – Community and Culture Hub 16–18 O’Connell Street\, Waterford City Centre
URL:https://waterfordncn.ie/event/together-tuesdays-24-06/
ATTACH;FMTTYPE=image/jpeg:https://waterfordncn.ie/wp-content/uploads/2025/05/WNCN_Together_tuesday.jpg
END:VEVENT
END:VCALENDAR