BEGIN:VCALENDAR
VERSION:2.0
PRODID:-//Waterford New Communities Network - ECPv6.15.15//NONSGML v1.0//EN
CALSCALE:GREGORIAN
METHOD:PUBLISH
X-WR-CALNAME:Waterford New Communities Network
X-ORIGINAL-URL:https://waterfordncn.ie
X-WR-CALDESC:Events for Waterford New Communities Network
REFRESH-INTERVAL;VALUE=DURATION:PT1H
X-Robots-Tag:noindex
X-PUBLISHED-TTL:PT1H
BEGIN:VTIMEZONE
TZID:UTC
BEGIN:STANDARD
TZOFFSETFROM:+0000
TZOFFSETTO:+0000
TZNAME:UTC
DTSTART:20240101T000000
END:STANDARD
END:VTIMEZONE
BEGIN:VEVENT
DTSTART;TZID=UTC:20250401T200000
DTEND;TZID=UTC:20250401T220000
DTSTAMP:20260421T104645
CREATED:20250227T162715Z
LAST-MODIFIED:20250331T091740Z
UID:1412-1743537600-1743544800@waterfordncn.ie
SUMMARY:Set Dancing Classes for Beginners
DESCRIPTION:Set dancing classes for beginners will start again on 1 April with the support of WNCN and Waterford City Comhaltas. Everybody is welcome (Over 18s). \nDates: Every Tuesday night\, starting 1 April\nTime: 8:00 pm – 10:00 pm\nVenue: St. Patrick’s Gateway Center\, Waterford\nTeacher: Flor O Mahony. \nIf you need more information:\nemail: Flor – fvomahony@gmail.com\ncontact: Flor – 0872311802 \nGreat Fun\, Great Exercise\, Great dancing!
URL:https://waterfordncn.ie/event/set-dancing-classes-for-beginners-01-04/
END:VEVENT
BEGIN:VEVENT
DTSTART;TZID=UTC:20250401T150000
DTEND;TZID=UTC:20250401T180000
DTSTAMP:20260421T104645
CREATED:20250331T081653Z
LAST-MODIFIED:20250331T081653Z
UID:1478-1743519600-1743530400@waterfordncn.ie
SUMMARY:Eid Mubarak Celebration
DESCRIPTION:Syrian & Afghan Community inviting Eid celebration. \nDate: Tuesday\, 1 April\nTime: 3:00 pm – 6:00 pm\nVenue: Killure Grove Community Centre\, John’s Park\, Waterford. \nSupported by Respond\, Waterford City Council and Department of Children & Equality
URL:https://waterfordncn.ie/event/eid-mubarak-celebration/
ATTACH;FMTTYPE=image/jpeg:https://waterfordncn.ie/wp-content/uploads/2025/03/Eid-Mubarak.jpg
END:VEVENT
BEGIN:VEVENT
DTSTART;TZID=UTC:20250318T200000
DTEND;TZID=UTC:20250318T220000
DTSTAMP:20260421T104645
CREATED:20250227T162551Z
LAST-MODIFIED:20250227T162551Z
UID:1411-1742328000-1742335200@waterfordncn.ie
SUMMARY:Set dancing classes for beginners
DESCRIPTION:Set dancing classes for beginners will start again on  January 28th  with the support of WNCN and Waterford City Comhaltas. \nPlease see flyer for more details. \nEverybody Welcome(Over 18s). \nTeacher: Flor O Mahony. \nIf you need more information email me at fvomahony@gmail.com \nGreat Fun\, Great Exercise\, Great dancing!
URL:https://waterfordncn.ie/event/set-dancing-classes-for-beginners-6/
ATTACH;FMTTYPE=image/jpeg:https://waterfordncn.ie/wp-content/uploads/2025/01/Set-dance-flyer.jpg
END:VEVENT
END:VCALENDAR