BEGIN:VCALENDAR
VERSION:2.0
PRODID:-//Waterford New Communities Network - ECPv6.15.15//NONSGML v1.0//EN
CALSCALE:GREGORIAN
METHOD:PUBLISH
X-ORIGINAL-URL:https://waterfordncn.ie
X-WR-CALDESC:Events for Waterford New Communities Network
REFRESH-INTERVAL;VALUE=DURATION:PT1H
X-Robots-Tag:noindex
X-PUBLISHED-TTL:PT1H
BEGIN:VTIMEZONE
TZID:UTC
BEGIN:STANDARD
TZOFFSETFROM:+0000
TZOFFSETTO:+0000
TZNAME:UTC
DTSTART:20250101T000000
END:STANDARD
END:VTIMEZONE
BEGIN:VEVENT
DTSTART;TZID=UTC:20260317T130000
DTEND;TZID=UTC:20260317T140000
DTSTAMP:20260421T060040
CREATED:20260305T215752Z
LAST-MODIFIED:20260305T215752Z
UID:2132-1773752400-1773756000@waterfordncn.ie
SUMMARY:St. Patrick’s Day Parade 2026
DESCRIPTION:Waterford New Communities Network warmly invites everyone to join us for the St. Patrick’s Day Parade 2026. \nThis special day is a wonderful opportunity to celebrate community\, diversity\, and the spirit of Waterford together. People from many cultures and backgrounds will come together to take part in this festive event and show the strength and unity of our community. \nWhether you are a long-time resident or new to Waterford\, we would love you to walk with us and celebrate this important national day. \n📅 Date: 17 March 2026🕐 Time: 1 PM📍 Location: The Glen\, Waterford \nEveryone is welcome — migrants\, locals\, families\, and friends. Come along\, bring your flags\, your smiles\, and your community spirit!
URL:https://waterfordncn.ie/event/st-patricks-day-parade-waterford-2026/
ATTACH;FMTTYPE=image/jpeg:https://waterfordncn.ie/wp-content/uploads/2026/03/photo_2026-03-05_21-50-15.jpg
ORGANIZER;CN="Waterford New Communities Network":MAILTO:contact@waterfordncn.ie
END:VEVENT
BEGIN:VEVENT
DTSTART;TZID=UTC:20260421T180000
DTEND;TZID=UTC:20260421T200000
DTSTAMP:20260421T060040
CREATED:20260208T202919Z
LAST-MODIFIED:20260414T083043Z
UID:2084-1776794400-1776801600@waterfordncn.ie
SUMMARY:Together Tuesdays
DESCRIPTION:Join us for Together Tuesdays\, a friendly and informal drop-in session where everyone is welcome!\nWe’re delighted to be back and can’t wait to welcome you again. \nCome along for a relaxed evening to meet new people\, share what’s happening locally\, and enjoy a safe space to ask questions\, make connections\, and build friendships. \nNo pressure\, no formalities — just a warm\, welcoming place to feel part of the Waterford community. \nNo matter where you’re from or how long you’ve been here\, we welcome and respect everyone and celebrate the diversity that makes our community stronger. \nDate: Tuesday 10th February 2026\nTime: 6:00 PM – 8:00 PM\nVenue: WCQ Place – Community & Cultural Hub\, 16–18 O’Connell Street\, Waterford City Centre
URL:https://waterfordncn.ie/event/together-tuesdays-2/
ATTACH;FMTTYPE=image/png:https://waterfordncn.ie/wp-content/uploads/2025/05/ChatGPT-Image-Feb-8-2026-08_24_19-PM.png
END:VEVENT
END:VCALENDAR