BEGIN:VCALENDAR
VERSION:2.0
PRODID:-//Waterford New Communities Network - ECPv6.15.15//NONSGML v1.0//EN
CALSCALE:GREGORIAN
METHOD:PUBLISH
X-ORIGINAL-URL:https://waterfordncn.ie
X-WR-CALDESC:Events for Waterford New Communities Network
REFRESH-INTERVAL;VALUE=DURATION:PT1H
X-Robots-Tag:noindex
X-PUBLISHED-TTL:PT1H
BEGIN:VTIMEZONE
TZID:UTC
BEGIN:STANDARD
TZOFFSETFROM:+0000
TZOFFSETTO:+0000
TZNAME:UTC
DTSTART:20240101T000000
END:STANDARD
END:VTIMEZONE
BEGIN:VEVENT
DTSTART;TZID=UTC:20250515T183000
DTEND;TZID=UTC:20250515T203000
DTSTAMP:20260421T201227
CREATED:20250326T093553Z
LAST-MODIFIED:20250326T093553Z
UID:1470-1747333800-1747341000@waterfordncn.ie
SUMMARY:Sailing Stormy Seas WNCN Workshop\, Thu 15 + 22 May\, Friendship Café\, Waterford
DESCRIPTION:WNCN is delighted to announce a full sponsored series of Conscious Crafting workshops aimed at immigrant women. No experience is needed and no need to be crafty or artistic! Connect and create with a group of supportive women from all walks of life and all corners of the earth. \nSailing Stormy Seas Workshops\nCraft a driftwood boat with a cloth sail\, symbolising resilience through rough waters\, using simple materials and creative techniques. \nDate: Thursday 15 + 22 May\nTime: 6:30 pm – 8:30 pm\nVenue: Friendship Café\, Waterford \nFor more info and the coupon\, please get in touch with Suzan at 0833260767 on WhatsApp or email us at suzan@conscious-crafting.com \nBook your spot\n 
URL:https://waterfordncn.ie/event/sailing-stormy-seas-wncn-workshop-thu-15-22-may-friendship-cafe-waterford/
ATTACH;FMTTYPE=image/jpeg:https://waterfordncn.ie/wp-content/uploads/2025/03/WF-THU-WNCN-510x510-1.jpg
END:VEVENT
BEGIN:VEVENT
DTSTART;TZID=UTC:20250520T103000
DTEND;TZID=UTC:20250520T123000
DTSTAMP:20260421T201227
CREATED:20250513T085327Z
LAST-MODIFIED:20250513T085410Z
UID:1597-1747737000-1747744200@waterfordncn.ie
SUMMARY:Torn Treasures Workshop\, Tuesday 20 + 27 May\, Friendship Café\, Waterford
DESCRIPTION:A two-session project on visible mending and creative repair\, offering time to reflect\, stitch\, and connect. Bring your own item or use materials provided. Both sessions combined are one workshop\, tickets free but booking required. \nDate: Tuesday 20 + 27 May\nTime: 10.30 AM – 12.30 AM\nVenue: Friendship Café\, Waterford\nCost: Free\nClick to book your ticket: https://conscious-crafting.com/product/torn-treasures-workshop-tuesday-20-27-may-friendship-cafe-waterford/
URL:https://waterfordncn.ie/event/torn-treasures-workshop-tuesday-20-27-may-friendship-cafe-waterford/
LOCATION:The Friendship Cafe\, 118 Coffee House Ln\, Waterford\, Ireland
ATTACH;FMTTYPE=image/jpeg:https://waterfordncn.ie/wp-content/uploads/2025/05/WF083_Torn_treasures2.jpg
END:VEVENT
BEGIN:VEVENT
DTSTART;TZID=UTC:20250520T170000
DTEND;TZID=UTC:20250520T190000
DTSTAMP:20260421T201227
CREATED:20250520T072628Z
LAST-MODIFIED:20250520T094111Z
UID:1594-1747760400-1747767600@waterfordncn.ie
SUMMARY:Together Tuesdays
DESCRIPTION:Join us for Together Tuesdays\, a friendly and informal drop-in session where everyone is welcome!\nCome along for a relaxed evening — bring some snacks if you like\, meet new people\, share information about local events\, and enjoy a safe space to ask questions\, make connections\, and build friendships. \nNo pressure\, no formalities — just a warm\, welcoming place to feel part of the Waterford community. \nNo matter where you’re from or how long you’ve been here — we welcome and respect everyone\, and we celebrate the diversity that makes our community stronger! \nDate: Tuesday 20th May 2025\nTime: 5 PM – 7 PM\nVenue: WCQ Place – Community and Culture Hub 16–18 O’Connell Street\, Waterford City Centre \nOrganised by Waterford New Communities Network \nWe can’t wait to see you there!
URL:https://waterfordncn.ie/event/together-tuesdays/
ATTACH;FMTTYPE=image/jpeg:https://waterfordncn.ie/wp-content/uploads/2025/05/WNCN_Together_tuesday.jpg
END:VEVENT
BEGIN:VEVENT
DTSTART;TZID=UTC:20250523T180000
DTEND;TZID=UTC:20250523T193000
DTSTAMP:20260421T201227
CREATED:20250228T103154Z
LAST-MODIFIED:20260211T101614Z
UID:1427-1748023200-1748028600@waterfordncn.ie
SUMMARY:New Dara Collage Celebration
DESCRIPTION:Join Waterford New Communities Network as we celebrate the New Dara Collage\, a unique collaborative art project created for A Slice of Culture\, Waterford’s Multicultural Festival 2024. \nDate: Monday\, 25th March 2025\nTime: 6:00 PM – 7:30 PM\nVenue: Community & Cultural Hub\, 16-18 O’Connell Street\, Waterford City Centre \nThis event will honour the creative journey behind the New Dara Collage\, now proudly displayed on the wall of the Community & Cultural Hub. \n\nHear from participants as they share their experiences from the creative process\nLearn about the inspiration behind the artwork and its cultural significance\nConnect with the creatives and community members who brought this vision to life\n\nCome and celebrate art\, culture\, and community collaboration in Waterford! \nAll are welcome. Free event. \nFor more information\, contact us at contact@waterfordncn.ie \nWaterford New Communities Network – Creativity\, Diversity\, and Inclusion
URL:https://waterfordncn.ie/event/new-dara-collage-celebration/
LOCATION:Waterford Cultural Hub\, 16-18 O'Connell Street\, Waterford\, Co. Waterford\, X91KVN9\, Ireland
ATTACH;FMTTYPE=image/jpeg:https://waterfordncn.ie/wp-content/uploads/2025/02/New-Dara-Collage.jpg
END:VEVENT
BEGIN:VEVENT
DTSTART;TZID=UTC:20250527T170000
DTEND;TZID=UTC:20250527T190000
DTSTAMP:20260421T201227
CREATED:20250520T094750Z
LAST-MODIFIED:20250520T095149Z
UID:1617-1748365200-1748372400@waterfordncn.ie
SUMMARY:Together Tuesdays
DESCRIPTION:Join us for Together Tuesdays\, a friendly and informal drop-in session where everyone is welcome!\nCome along for a relaxed evening—bring some snacks if you like—to meet new people\, share information about local events\, and enjoy a safe space to ask questions\, make connections\, and build friendships. \nNo pressure\, no formalities — just a warm\, welcoming place to feel part of the Waterford community. \nNo matter where you’re from or how long you’ve been here — we welcome and respect everyone and celebrate the diversity that strengthens our community! \nDate: Tuesday 27th May 2025\nTime: 5 PM – 7 PM\nVenue: WCQ Place – Community and Culture Hub 16–18 O’Connell Street\, Waterford City Centre
URL:https://waterfordncn.ie/event/together-tuesdays-27-05/
ATTACH;FMTTYPE=image/jpeg:https://waterfordncn.ie/wp-content/uploads/2025/05/WNCN_Together_tuesday.jpg
END:VEVENT
BEGIN:VEVENT
DTSTART;TZID=UTC:20250529T183000
DTEND;TZID=UTC:20250529T203000
DTSTAMP:20260421T201227
CREATED:20250326T094136Z
LAST-MODIFIED:20250326T094136Z
UID:1472-1748543400-1748550600@waterfordncn.ie
SUMMARY:Life is a Box of Chocolates WNCN Workshop\, Thu 29 May + 5 Jun\, Friendship Café\, Waterford
DESCRIPTION:WNCN is delighted to announce a full sponsored series of Conscious Crafting workshops aimed at immigrant women. No experience is needed and no need to be crafty or artistic! Connect and create with a group of supportive women from all walks of life and all corners of the earth. \nLife is a Box of Chocolates Workshops\nDecorate pebbles as chocolates and package them into a handmade box. And reflect on life’s unexpected\, bitter and sweet moments. \nDate: Thursday 29 May + 5 Jun\nTime: 6:30 pm – 8:30 pm\nVenue: Friendship Café\, Waterford \nFor more info and the coupon\, please get in touch with Suzan at 0833260767 on WhatsApp or email us at suzan@conscious-crafting.com \nBook your spot\n 
URL:https://waterfordncn.ie/event/life-is-a-box-of-chocolates-wncn-workshop-thu-29-may-5-jun-friendship-cafe-waterford/
ATTACH;FMTTYPE=image/jpeg:https://waterfordncn.ie/wp-content/uploads/2025/03/WF-THU-WNCN-510x510-1.jpg
END:VEVENT
BEGIN:VEVENT
DTSTART;TZID=UTC:20250603T170000
DTEND;TZID=UTC:20250603T190000
DTSTAMP:20260421T201227
CREATED:20250520T095004Z
LAST-MODIFIED:20250520T095129Z
UID:1616-1748970000-1748977200@waterfordncn.ie
SUMMARY:Together Tuesdays
DESCRIPTION:Join us for Together Tuesdays\, a friendly and informal drop-in session where everyone is welcome!\nCome along for a relaxed evening—bring some snacks if you like—to meet new people\, share information about local events\, and enjoy a safe space to ask questions\, make connections\, and build friendships. \nNo pressure\, no formalities — just a warm\, welcoming place to feel part of the Waterford community. \nNo matter where you’re from or how long you’ve been here — we welcome and respect everyone and celebrate the diversity that strengthens our community! \nDate: Tuesday 3rd June 2025\nTime: 5 PM – 7 PM\nVenue: WCQ Place – Community and Culture Hub 16–18 O’Connell Street\, Waterford City Centre
URL:https://waterfordncn.ie/event/together-tuesdays-03-06/
ATTACH;FMTTYPE=image/jpeg:https://waterfordncn.ie/wp-content/uploads/2025/05/WNCN_Together_tuesday.jpg
END:VEVENT
BEGIN:VEVENT
DTSTART;TZID=UTC:20250610T170000
DTEND;TZID=UTC:20250610T190000
DTSTAMP:20260421T201227
CREATED:20250520T095319Z
LAST-MODIFIED:20250520T095319Z
UID:1615-1749574800-1749582000@waterfordncn.ie
SUMMARY:Together Tuesdays
DESCRIPTION:Join us for Together Tuesdays\, a friendly and informal drop-in session where everyone is welcome!\nCome along for a relaxed evening—bring some snacks if you like—to meet new people\, share information about local events\, and enjoy a safe space to ask questions\, make connections\, and build friendships. \nNo pressure\, no formalities — just a warm\, welcoming place to feel part of the Waterford community. \nNo matter where you’re from or how long you’ve been here — we welcome and respect everyone and celebrate the diversity that strengthens our community! \nDate: Tuesday 10th June 2025\nTime: 5 PM – 7 PM\nVenue: WCQ Place – Community and Culture Hub 16–18 O’Connell Street\, Waterford City Centre
URL:https://waterfordncn.ie/event/together-tuesdays-10-06/
ATTACH;FMTTYPE=image/jpeg:https://waterfordncn.ie/wp-content/uploads/2025/05/WNCN_Together_tuesday.jpg
END:VEVENT
BEGIN:VEVENT
DTSTART;TZID=UTC:20250617T170000
DTEND;TZID=UTC:20250617T190000
DTSTAMP:20260421T201227
CREATED:20250520T101754Z
LAST-MODIFIED:20250520T101754Z
UID:1614-1750179600-1750186800@waterfordncn.ie
SUMMARY:Together Tuesdays
DESCRIPTION:Join us for Together Tuesdays\, a friendly and informal drop-in session where everyone is welcome!\nCome along for a relaxed evening—bring some snacks if you like—to meet new people\, share information about local events\, and enjoy a safe space to ask questions\, make connections\, and build friendships. \nNo pressure\, no formalities — just a warm\, welcoming place to feel part of the Waterford community. \nNo matter where you’re from or how long you’ve been here — we welcome and respect everyone and celebrate the diversity that strengthens our community! \nDate: Tuesday 27th May 2025\nTime: 5 PM – 7 PM\nVenue: WCQ Place – Community and Culture Hub 16–18 O’Connell Street\, Waterford City Centre
URL:https://waterfordncn.ie/event/together-tuesdays-17-06/
ATTACH;FMTTYPE=image/jpeg:https://waterfordncn.ie/wp-content/uploads/2025/05/WNCN_Together_tuesday.jpg
END:VEVENT
BEGIN:VEVENT
DTSTART;TZID=UTC:20250624T170000
DTEND;TZID=UTC:20250624T190000
DTSTAMP:20260421T201227
CREATED:20250520T101941Z
LAST-MODIFIED:20250520T101941Z
UID:1613-1750784400-1750791600@waterfordncn.ie
SUMMARY:Together Tuesdays
DESCRIPTION:Join us for Together Tuesdays\, a friendly and informal drop-in session where everyone is welcome!\nCome along for a relaxed evening—bring some snacks if you like—to meet new people\, share information about local events\, and enjoy a safe space to ask questions\, make connections\, and build friendships. \nNo pressure\, no formalities — just a warm\, welcoming place to feel part of the Waterford community. \nNo matter where you’re from or how long you’ve been here — we welcome and respect everyone and celebrate the diversity that strengthens our community! \nDate: Tuesday 27th May 2025\nTime: 5 PM – 7 PM\nVenue: WCQ Place – Community and Culture Hub 16–18 O’Connell Street\, Waterford City Centre
URL:https://waterfordncn.ie/event/together-tuesdays-24-06/
ATTACH;FMTTYPE=image/jpeg:https://waterfordncn.ie/wp-content/uploads/2025/05/WNCN_Together_tuesday.jpg
END:VEVENT
BEGIN:VEVENT
DTSTART;VALUE=DATE:20250820
DTEND;VALUE=DATE:20250821
DTSTAMP:20260421T201227
CREATED:20250804T201621Z
LAST-MODIFIED:20250804T201621Z
UID:1796-1755648000-1755734399@waterfordncn.ie
SUMMARY:Calling All Young Artists!
DESCRIPTION:🎨 Join our A Slice of Culture Colouring Competition!\nOpen to ages: 8–13 and 14–19 \n🗓 Deadline: 20th August \n🏆 Prizes donated by The Book Centre \n📍 Entries will be displayed at Waterford Library from 1st September \n🎉 Winners announced at our Launch Party – Friday 5th September at the Book Centre! \n👉 Return your entry to any County Waterford Library \n🖍 Let your creativity shine! \n📄 Download Entry Form (English) \n📄 Íoslódáil an Fhoirm (as Gaeilge) \n\n\n \n📥 Click here to download the image
URL:https://waterfordncn.ie/event/calling-all-young-artists/
ATTACH;FMTTYPE=image/png:https://waterfordncn.ie/wp-content/uploads/2025/08/20250804_2008_Childrens-Coloring-Scene_simple_compose_01k1v7mkapfytbhne37tvc9d0h.png
END:VEVENT
BEGIN:VEVENT
DTSTART;TZID=UTC:20250906T110000
DTEND;TZID=UTC:20250906T190000
DTSTAMP:20260421T201227
CREATED:20250803T153033Z
LAST-MODIFIED:20250804T163305Z
UID:1769-1757156400-1757185200@waterfordncn.ie
SUMMARY:Waterford’s Multicultural Festival: A Slice of Culture 2025
DESCRIPTION:Join us for a colourful celebration of culture\, community\, and connection at A Slice of Culture 2025!\nThis one-day multicultural festival brings together music\, dance\, food\, art\, and traditions from around the world — all right here in Waterford. \nCome along for live music\, colourful cultural displays\, and delicious food from around the world — and meet friendly faces from every corner of the city!\nWe’d love to see you there — bring a friend\, bring your curiosity\, and enjoy a day full of connection\, fun\, and community! \nDate: Saturday\, 6th September 2025\nTime: 11:00 AM – 7:00 PM\nVenue: Wyse Park\, John’s Lane\, Waterford City
URL:https://waterfordncn.ie/event/waterfords-multicultural-festival-a-slice-of-culture-2025/
LOCATION:Wyse Park\, Waterford City\, John's Ln\, Waterford\, Ireland
ATTACH;FMTTYPE=image/jpeg:https://waterfordncn.ie/wp-content/uploads/2025/08/SOC25-SM-banner2-1024x538-1.jpg
END:VEVENT
BEGIN:VEVENT
DTSTART;TZID=UTC:20260317T130000
DTEND;TZID=UTC:20260317T140000
DTSTAMP:20260421T201227
CREATED:20260305T215752Z
LAST-MODIFIED:20260305T215752Z
UID:2132-1773752400-1773756000@waterfordncn.ie
SUMMARY:St. Patrick’s Day Parade 2026
DESCRIPTION:Waterford New Communities Network warmly invites everyone to join us for the St. Patrick’s Day Parade 2026. \nThis special day is a wonderful opportunity to celebrate community\, diversity\, and the spirit of Waterford together. People from many cultures and backgrounds will come together to take part in this festive event and show the strength and unity of our community. \nWhether you are a long-time resident or new to Waterford\, we would love you to walk with us and celebrate this important national day. \n📅 Date: 17 March 2026🕐 Time: 1 PM📍 Location: The Glen\, Waterford \nEveryone is welcome — migrants\, locals\, families\, and friends. Come along\, bring your flags\, your smiles\, and your community spirit!
URL:https://waterfordncn.ie/event/st-patricks-day-parade-waterford-2026/
ATTACH;FMTTYPE=image/jpeg:https://waterfordncn.ie/wp-content/uploads/2026/03/photo_2026-03-05_21-50-15.jpg
ORGANIZER;CN="Waterford New Communities Network":MAILTO:contact@waterfordncn.ie
END:VEVENT
BEGIN:VEVENT
DTSTART;TZID=UTC:20260421T180000
DTEND;TZID=UTC:20260421T200000
DTSTAMP:20260421T201227
CREATED:20260208T202919Z
LAST-MODIFIED:20260414T083043Z
UID:2084-1776794400-1776801600@waterfordncn.ie
SUMMARY:Together Tuesdays
DESCRIPTION:Join us for Together Tuesdays\, a friendly and informal drop-in session where everyone is welcome!\nWe’re delighted to be back and can’t wait to welcome you again. \nCome along for a relaxed evening to meet new people\, share what’s happening locally\, and enjoy a safe space to ask questions\, make connections\, and build friendships. \nNo pressure\, no formalities — just a warm\, welcoming place to feel part of the Waterford community. \nNo matter where you’re from or how long you’ve been here\, we welcome and respect everyone and celebrate the diversity that makes our community stronger. \nDate: Tuesday 10th February 2026\nTime: 6:00 PM – 8:00 PM\nVenue: WCQ Place – Community & Cultural Hub\, 16–18 O’Connell Street\, Waterford City Centre
URL:https://waterfordncn.ie/event/together-tuesdays-2/
ATTACH;FMTTYPE=image/png:https://waterfordncn.ie/wp-content/uploads/2025/05/ChatGPT-Image-Feb-8-2026-08_24_19-PM.png
END:VEVENT
END:VCALENDAR