BEGIN:VCALENDAR
VERSION:2.0
PRODID:-//Waterford New Communities Network - ECPv6.15.15//NONSGML v1.0//EN
CALSCALE:GREGORIAN
METHOD:PUBLISH
X-WR-CALNAME:Waterford New Communities Network
X-ORIGINAL-URL:https://waterfordncn.ie
X-WR-CALDESC:Events for Waterford New Communities Network
REFRESH-INTERVAL;VALUE=DURATION:PT1H
X-Robots-Tag:noindex
X-PUBLISHED-TTL:PT1H
BEGIN:VTIMEZONE
TZID:UTC
BEGIN:STANDARD
TZOFFSETFROM:+0000
TZOFFSETTO:+0000
TZNAME:UTC
DTSTART:20240101T000000
END:STANDARD
END:VTIMEZONE
BEGIN:VEVENT
DTSTART;TZID=UTC:20250430T150000
DTEND;TZID=UTC:20250430T190000
DTSTAMP:20260421T082700
CREATED:20250424T215535Z
LAST-MODIFIED:20250425T075805Z
UID:1527-1746025200-1746039600@waterfordncn.ie
SUMMARY:National Voter Registration Day – Empowering Voices in Waterford!
DESCRIPTION:National Voter Registration Day is all about strengthening democracy in Ireland by ensuring that everyone who is eligible can vote and have their voice heard. \nAfter the success of last year’s initiative\, Waterford New Communities is proud to volunteer again this year to run a Voter Registration Drive – helping more people in our community get informed\, registered\, and ready to participate in elections. \nDate: 30 April. Wednesday\nTime: 3:00 pm – 7:00 pm\nVenue: CQ Hub\, 16-18 O’Connell St Waterford \nCheck the poster for full details on how you can get involved\, register\, or support the event. \nYour voice matters. Your vote counts. Let’s build a more inclusive democracy together!
URL:https://waterfordncn.ie/event/national-voter-registration-day-empowering-voices-in-waterford/
LOCATION:CQ Hub\, 16-18 O’Connell St Waterford
ATTACH;FMTTYPE=image/jpeg:https://waterfordncn.ie/wp-content/uploads/2025/04/5.jpeg
END:VEVENT
END:VCALENDAR