BEGIN:VCALENDAR
VERSION:2.0
PRODID:-//Waterford New Communities Network - ECPv6.15.15//NONSGML v1.0//EN
CALSCALE:GREGORIAN
METHOD:PUBLISH
X-WR-CALNAME:Waterford New Communities Network
X-ORIGINAL-URL:https://waterfordncn.ie
X-WR-CALDESC:Events for Waterford New Communities Network
REFRESH-INTERVAL;VALUE=DURATION:PT1H
X-Robots-Tag:noindex
X-PUBLISHED-TTL:PT1H
BEGIN:VTIMEZONE
TZID:UTC
BEGIN:STANDARD
TZOFFSETFROM:+0000
TZOFFSETTO:+0000
TZNAME:UTC
DTSTART:20240101T000000
END:STANDARD
END:VTIMEZONE
BEGIN:VEVENT
DTSTART;TZID=UTC:20250424T183000
DTEND;TZID=UTC:20250424T203000
DTSTAMP:20260421T094043
CREATED:20250326T092549Z
LAST-MODIFIED:20250326T092724Z
UID:1465-1745519400-1745526600@waterfordncn.ie
SUMMARY:Celtic Symbols WNCN Workshop\, Thu 24 Apr\, Friendship Café\, Waterford
DESCRIPTION:WNCN is delighted to announce a full sponsored series of Conscious Crafting workshops aimed at immigrant women. No experience is needed and no need to be crafty or artistic! Connect and create with a group of supportive women from all walks of life and all corners of the earth. \nCeltic Symbols Workshops\nExplore the fascinating world of Celtic symbols in this mindful and creative workshop designed for the characteristic visuals in Ireland. In this 2-hour session\, you’ll be gently guided to connect with a single Celtic symbol that speaks to you personally. \nDate: Thursday 24 April\nTime: 6:30 pm – 8:30 pm\nVenue: Friendship Café\, Waterford \nFor more info and the coupon\, please get in touch with Suzan at 0833260767 on WhatsApp or email us at suzan@conscious-crafting.com \nBook your spot\n 
URL:https://waterfordncn.ie/event/celtic-symbols-wncn-workshop-thu-24-apr-friendship-cafe-waterford/
ATTACH;FMTTYPE=image/jpeg:https://waterfordncn.ie/wp-content/uploads/2025/03/WF-THU-WNCN-510x510-1.jpg
END:VEVENT
END:VCALENDAR