BEGIN:VCALENDAR
VERSION:2.0
PRODID:-//Waterford New Communities Network - ECPv6.15.15//NONSGML v1.0//EN
CALSCALE:GREGORIAN
METHOD:PUBLISH
X-ORIGINAL-URL:https://waterfordncn.ie
X-WR-CALDESC:Events for Waterford New Communities Network
REFRESH-INTERVAL;VALUE=DURATION:PT1H
X-Robots-Tag:noindex
X-PUBLISHED-TTL:PT1H
BEGIN:VTIMEZONE
TZID:UTC
BEGIN:STANDARD
TZOFFSETFROM:+0000
TZOFFSETTO:+0000
TZNAME:UTC
DTSTART:20240101T000000
END:STANDARD
END:VTIMEZONE
BEGIN:VEVENT
DTSTART;TZID=UTC:20250420T140000
DTEND;TZID=UTC:20250420T170000
DTSTAMP:20260421T093832
CREATED:20250414T170621Z
LAST-MODIFIED:20250416T071620Z
UID:1513-1745157600-1745168400@waterfordncn.ie
SUMMARY:WFIC Easter Sunday Funday
DESCRIPTION:Potluck to share\, or you can sell food\, games\, karaoke\, Bingo\, Fundraising\, bring your family and friends \nDate: Sunday 20 April\nTime: 2:00 pm – 5:00 pm\nVenue: Ballinamona Glamping & Camping
URL:https://waterfordncn.ie/event/wfic-easter-sunday-funday/
LOCATION:Ballinamona Glamping & Camping
END:VEVENT
END:VCALENDAR