BEGIN:VCALENDAR
VERSION:2.0
PRODID:-//Waterford New Communities Network - ECPv6.15.15//NONSGML v1.0//EN
CALSCALE:GREGORIAN
METHOD:PUBLISH
X-ORIGINAL-URL:https://waterfordncn.ie
X-WR-CALDESC:Events for Waterford New Communities Network
REFRESH-INTERVAL;VALUE=DURATION:PT1H
X-Robots-Tag:noindex
X-PUBLISHED-TTL:PT1H
BEGIN:VTIMEZONE
TZID:UTC
BEGIN:STANDARD
TZOFFSETFROM:+0000
TZOFFSETTO:+0000
TZNAME:UTC
DTSTART:20240101T000000
END:STANDARD
END:VTIMEZONE
BEGIN:VEVENT
DTSTART;TZID=UTC:20250412T113000
DTEND;TZID=UTC:20250412T150000
DTSTAMP:20260421T093831
CREATED:20250407T103815Z
LAST-MODIFIED:20250407T103939Z
UID:1484-1744457400-1744470000@waterfordncn.ie
SUMMARY:Ukrainian Easter Charity Fair!
DESCRIPTION:Get ready for a festive explosion of colors\, tastes\, and tradition! \nCelebrate Ukrainian Easter with us and support a great cause! \nWhat’s waiting for you?\n\nHomemade Easter breads & cookies\nHandcrafted Ukrainian souvenirs\nBeautiful holiday decor & gifts\nFreshly baked goodies & treats\nTea\, coffee\, and warm smiles\nLive Ukrainian music & vibes\n\nDate: Saturday\, April 12\, 2025\nTime: 11:30 AM – 3:00 PM\nVenue: St. Patrick Gateway Centre\nMore info: https://www.facebook.com/profile.php?id=100054311569210 \nFREE ENTRY! \nBring your friends\, kids\, and holiday mood – you won’t want to miss it!
URL:https://waterfordncn.ie/event/ukrainian-easter-charity-fair/
ATTACH;FMTTYPE=image/jpeg:https://waterfordncn.ie/wp-content/uploads/2025/04/Ukrainian-Easter-Charity-Fair.jpg
END:VEVENT
END:VCALENDAR