BEGIN:VCALENDAR
VERSION:2.0
PRODID:-//Waterford New Communities Network - ECPv6.15.15//NONSGML v1.0//EN
CALSCALE:GREGORIAN
METHOD:PUBLISH
X-ORIGINAL-URL:https://waterfordncn.ie
X-WR-CALDESC:Events for Waterford New Communities Network
REFRESH-INTERVAL;VALUE=DURATION:PT1H
X-Robots-Tag:noindex
X-PUBLISHED-TTL:PT1H
BEGIN:VTIMEZONE
TZID:UTC
BEGIN:STANDARD
TZOFFSETFROM:+0000
TZOFFSETTO:+0000
TZNAME:UTC
DTSTART:20240101T000000
END:STANDARD
END:VTIMEZONE
BEGIN:VEVENT
DTSTART;TZID=UTC:20250408T200000
DTEND;TZID=UTC:20250408T220000
DTSTAMP:20260421T094238
CREATED:20250408T044155Z
LAST-MODIFIED:20250408T044155Z
UID:1489-1744142400-1744149600@waterfordncn.ie
SUMMARY:Set dancing classes for beginners
DESCRIPTION:Set dancing classes for beginners will start again on 1 April with the support of WNCN and Waterford City Comhaltas. Everybody is welcome (Over 18s). \nDates: Every Tuesday night\, starting 1 April\nTime: 8:00 pm – 10:00 pm\nVenue: St. Patrick’s Gateway Center\, Waterford\nTeacher: Flor O Mahony. \nIf you need more information:\nemail: Flor – fvomahony@gmail.com\ncontact: Flor – 0872311802 \nGreat Fun\, Great Exercise\, Great dancing!
URL:https://waterfordncn.ie/event/set-dancing-classes-for-beginners-8-4/
END:VEVENT
END:VCALENDAR